BEGIN:VCALENDAR
VERSION:2.0
PRODID:-//wp-events-plugin.com//6.6.3//EN
BEGIN:VEVENT
UID:3618@cap-madrid.com
DTSTART;VALUE=DATE:20240308
DTEND;VALUE=DATE:20240310
DTSTAMP:20240308T065117Z
URL:https://www.cap-madrid.com/events/el-sonido-pop-de-toda-la-vida-en-dis
 co-pub-cap-solo-en-cap-madrid-2024-03-08/
SUMMARY:¡¡¡¡EL SONIDO POP DE TODA LA VIDA EN DISCO PUB CAP. SÓLO EN CA
 P MADRID!!!!
DESCRIPTION:¡¡¡¡EL SONIDO POP DE TODA LA VIDA EN DISCO PUB CAP. DEL 7 A
 L 10 DE MARZO!!!!\nEsta semana en Disco Pub Cap EL SONIDO POP DE TODA LA V
 IDA SERÁ LA PROTAGONISTA. Para los amantes de la mejor música pop\, la d
 e siempre\, esta semana es vuestra semana……\n\nSi te gustó la mejor m
 úsica pop\, si te apetece escucharla\, si te animas a cantarla y bailarla
 \, Ven a Cap Madrid\, tómate algo\, baila\, charla o disfruta\, con nuest
 ra MÚSICA POP DE TODA LA VIDA en nuestro DISCO PUB CAP.\n\nDesde que abri
 mos podrás disfrutar de nuestro Disco Pub.\nRecuerda:\n\nPor 30 euros/par
 eja\nPor 50 euros/chicos\npor 10 euros/chicas\n\nVen a nuestra sauna spa.\
 nVen a nuestro bar restaurante\nCen a nuestro Disco Pub\nDisfruta de nuest
 ras salas temáticas\nDesde las 11 de la mañana y hasta las 4 de la madru
 gada.\n\n¡¡¡¡Cap Madrid\, siempre Cap Madrid!!!!\n\nOs esperamos\n\n**
 **Permitido el acceso a la barra\, restaurante y disco pub con lencería y
  tacones.
ATTACH;FMTTYPE=image/jpeg:https://www.cap-madrid.com/wp-content/uploads/20
 24/03/Mejor-musica-Pop.jpg
CATEGORIES:Eventos y fiestas,Fiesta
END:VEVENT
END:VCALENDAR