BEGIN:VCALENDAR
VERSION:2.0
PRODID:-//wp-events-plugin.com//6.6.3//EN
BEGIN:VEVENT
UID:4863@cap-madrid.com
DTSTART;VALUE=DATE:20241104
DTEND;VALUE=DATE:20241105
DTSTAMP:20241102T202029Z
URL:https://www.cap-madrid.com/events/noviembre-de-las-chicas-gratis-la-of
 erta-continua-2024-11-04/
SUMMARY:¡¡¡¡NOVIEMBRE DE LAS CHICAS GRATIS. LA OFERTA CONTINUA!!!!
DESCRIPTION:¡¡¡¡NOVIEMBRE DE LAS CHICAS GRATIS EN UNIVERSO CAP. LA OFER
 TA CONTINUA. ¿A QUÉ ESPERAS?\n\nEn Universo Cap Noviembre continua siend
 o el mes de las chicas\, por lo que ese mes tendrán la entrada Gratis al 
 local.\n\nSí\, como lo oís\, en Noviembre las chicas tampoco pagan en Un
 iverso Cap.\n\nSi eres chicas y no conoces nuestro Universo\, VEN\n\nSi er
 es chica y ya lo conoces\, VEN\n\nSi eres pareja y quieres conocer chicas 
 VEN\n\nSi eres chico y quieres conocer chicas VEN\n\nEn Universo Cap\, Nov
 iembre es el mes de las chicas y por eso su entrada será GRATIS…..\n\nC
 on toalla y chanclas\, con consumo ilimitado de bebidas sin alcohol y sin 
 límite de tiempo\n\n&nbsp\;\n\nCap Madrid y Universo Cap\, siempre invent
 ando para tí\n\n¡¡¡¡OS ESPERAMOS!!!!
ATTACH;FMTTYPE=image/jpeg:https://www.cap-madrid.com/wp-content/uploads/20
 24/11/Chicas-gratis-Noviembre-24.jpg
CATEGORIES:Eventos y fiestas
END:VEVENT
END:VCALENDAR