BEGIN:VCALENDAR
VERSION:2.0
PRODID:-//wp-events-plugin.com//6.6.3//EN
BEGIN:VEVENT
UID:3795@cap-madrid.com
DTSTART:20240611T180000Z
DTEND:20240611T210000Z
DTSTAMP:20240610T183340Z
URL:https://www.cap-madrid.com/events/tarde-cervecera-en-cap-madrid-toda-l
 a-cerveza-gratis/
SUMMARY:¡¡¡¡TARDE CERVECERA EN CAP MADRID. TODA LA CERVEZA GRATIS!!!!
DESCRIPTION:¡¡¡¡TARDE DEL MARTES CERVECERA EN CAP MADRID. TÓMATE LA CE
 RVEZA GRATIS!!!!\n\nEl Martes 11 de JUNIO tendremos la FIESTA DE LA CERVEZ
 A en Cap Madrid. Ese día\, entre las 18 horas y las 21 horas todas las ca
 ñas de cerveza serán gratis en Cap Madrid.\nSí\, como lo oís\, ese dí
 a en Cap Madrid las cañas de cerveza será gratis………\nSi quieres pa
 sar una tarde diferente\, si te gusta la cerveza\, si te gusta el naturism
 o\, si te gusta el liberalismo\, ven a la TARDE DE LA CERVEZA EN CAP MADRI
 D\nVen a Cap Madrid y a sus tardes cerveceras.\n\nCap Madrid\, donde las t
 ardes son diferentes en Madrid.\n\n¡¡¡¡OS ESPERAMOS!!!!
ATTACH;FMTTYPE=image/jpeg:https://www.cap-madrid.com/wp-content/uploads/20
 23/07/Fiesta-cervecera.jpg
CATEGORIES:Eventos y fiestas,Fiesta
END:VEVENT
END:VCALENDAR